BEGIN:VCALENDAR
VERSION:2.0
PRODID:-//Park and Recreation - Prince Georges County MD - ECPv6.15.18//NONSGML v1.0//EN
CALSCALE:GREGORIAN
METHOD:PUBLISH
X-WR-CALNAME:Park and Recreation - Prince Georges County MD
X-ORIGINAL-URL:https://arts.pgparks.com
X-WR-CALDESC:Events for Park and Recreation - Prince Georges County MD
REFRESH-INTERVAL;VALUE=DURATION:PT1H
X-Robots-Tag:noindex
X-PUBLISHED-TTL:PT1H
BEGIN:VTIMEZONE
TZID:America/New_York
BEGIN:DAYLIGHT
TZOFFSETFROM:-0500
TZOFFSETTO:-0400
TZNAME:EDT
DTSTART:20240310T070000
END:DAYLIGHT
BEGIN:STANDARD
TZOFFSETFROM:-0400
TZOFFSETTO:-0500
TZNAME:EST
DTSTART:20241103T060000
END:STANDARD
BEGIN:DAYLIGHT
TZOFFSETFROM:-0500
TZOFFSETTO:-0400
TZNAME:EDT
DTSTART:20250309T070000
END:DAYLIGHT
BEGIN:STANDARD
TZOFFSETFROM:-0400
TZOFFSETTO:-0500
TZNAME:EST
DTSTART:20251102T060000
END:STANDARD
BEGIN:DAYLIGHT
TZOFFSETFROM:-0500
TZOFFSETTO:-0400
TZNAME:EDT
DTSTART:20260308T070000
END:DAYLIGHT
BEGIN:STANDARD
TZOFFSETFROM:-0400
TZOFFSETTO:-0500
TZNAME:EST
DTSTART:20261101T060000
END:STANDARD
END:VTIMEZONE
BEGIN:VEVENT
DTSTART;TZID=America/New_York:20251206T100000
DTEND;TZID=America/New_York:20251206T150000
DTSTAMP:20260421T194013
CREATED:20251111T222712Z
LAST-MODIFIED:20251126T170006Z
UID:10000213-1765015200-1765033200@arts.pgparks.com
SUMMARY:Santa Fly-In
DESCRIPTION:Join us for a festive day filled with holiday cheer from around the world! Experience magic\, fun\, and family with Santa as he makes his annual return to the museum and flies in (weather permitting) for a day of holiday merriment. Be dazzled with The Berwyn Ballet’s excerpts from “The Nutcracker” and explore how other cultures celebrate winter traditions with fun and festive crafts and activities. Sign up to visit with Santa (bilingual) and purchase treats from local food vendors. Advance registration required by December 3. FoFF Members: Email Collegeparkaviation@pgparks.com \n\n\n\nSchedule of events are as follows: \n\n\n\n\n10-10:30 am: The Nutcracker with Berwyn Ballet School\n\n\n\n10:30 am-3 pm: Activities & Crafts\n\n\n\n11 am: Santa fly-in (weather permitting)\n\n\n\n11:30 am-2:30 pm: Photos with Santa (Santa speaks English & Spanish; photo slot registration required)\n\n\n\n3 pm: Santa fly-out (weather permitting)\n\n\n\n\n$10 Resident*; $13 Non-Resident; FREE Field of Firsts Members \n\n\n\nNote: Photo slot registration is currently full. A first come\, first served standby line will be available to accommodate guests who were not able to reserve a slot.
URL:https://arts.pgparks.com/event_list/santa-fly-in
CATEGORIES:Arts,History,Holidays & Celebrations,Senior,Special Event,Youth
ATTACH;FMTTYPE=image/png:https://arts.pgparks.com/wp-content/uploads/2024/11/santa-1.png
END:VEVENT
BEGIN:VEVENT
DTSTART;TZID=America/New_York:20251212T100000
DTEND;TZID=America/New_York:20251212T160000
DTSTAMP:20260421T194013
CREATED:20251111T222642Z
LAST-MODIFIED:20251204T214502Z
UID:10000120-1765533600-1765555200@arts.pgparks.com
SUMMARY:Holiday Trains and Planes
DESCRIPTION:Board the “College Park Express” as we transform the College Park Aviation Museum gallery into a miniature holiday town from the past. Experience the holiday season and the thrill of our annual Trains and Planes program. Participate in a festive craft\, see the museum’s own train collection\, and “meet and greet” train hobbyists who will take you back in time to experience the sights and sounds of their train displays. Free with museum admission.
URL:https://arts.pgparks.com/event_list/holiday-trains-and-planes/2025-12-12
CATEGORIES:History,Holidays & Celebrations,Senior,Youth
ATTACH;FMTTYPE=image/jpeg:https://arts.pgparks.com/wp-content/uploads/2024/11/Holiday-Planes-Trains.jpg
END:VEVENT
BEGIN:VEVENT
DTSTART;TZID=America/New_York:20251213T100000
DTEND;TZID=America/New_York:20251213T160000
DTSTAMP:20260421T194013
CREATED:20251111T222642Z
LAST-MODIFIED:20251204T214502Z
UID:10000121-1765620000-1765641600@arts.pgparks.com
SUMMARY:Holiday Trains and Planes
DESCRIPTION:Board the “College Park Express” as we transform the College Park Aviation Museum gallery into a miniature holiday town from the past. Experience the holiday season and the thrill of our annual Trains and Planes program. Participate in a festive craft\, see the museum’s own train collection\, and “meet and greet” train hobbyists who will take you back in time to experience the sights and sounds of their train displays. Free with museum admission.
URL:https://arts.pgparks.com/event_list/holiday-trains-and-planes/2025-12-13
CATEGORIES:History,Holidays & Celebrations,Senior,Youth
ATTACH;FMTTYPE=image/jpeg:https://arts.pgparks.com/wp-content/uploads/2024/11/Holiday-Planes-Trains.jpg
END:VEVENT
BEGIN:VEVENT
DTSTART;TZID=America/New_York:20251213T173000
DTEND;TZID=America/New_York:20251213T203000
DTSTAMP:20260421T194013
CREATED:20251120T170628Z
LAST-MODIFIED:20251209T205322Z
UID:10000404-1765647000-1765657800@arts.pgparks.com
SUMMARY:Riversdale by Candlelight
DESCRIPTION:Walk-through history during this annual evening Open House. During your candlelit tour of the museum\, you’ll learn about the stories of those who lived and worked in the mansion. Live music will fill the halls\, and the Riversdale Kitchen Guild will be baking holiday treats in the dependency kitchen!
URL:https://arts.pgparks.com/event_list/riversdale-by-candlelight
CATEGORIES:Arts,History,Holidays & Celebrations,Performance
ATTACH;FMTTYPE=image/png:https://arts.pgparks.com/wp-content/uploads/2025/11/Screenshot-2025-11-19-110224-1.png
END:VEVENT
BEGIN:VEVENT
DTSTART;TZID=America/New_York:20251213T173000
DTEND;TZID=America/New_York:20251213T203000
DTSTAMP:20260421T194013
CREATED:20251120T184332Z
LAST-MODIFIED:20251209T205351Z
UID:10000408-1765647000-1765657800@arts.pgparks.com
SUMMARY:Riversdale Kitchen Guild: Holiday Treats
DESCRIPTION:Holiday Treats: Join the Riversdale Kitchen Guild over the open hearth as they highlight holiday beverages and treats-themed recipes using 19th century techniques.
URL:https://arts.pgparks.com/event_list/riversdale-kitchen-guild-holiday-treats
CATEGORIES:Arts,History,Holidays & Celebrations,Performance
ATTACH;FMTTYPE=image/jpeg:https://arts.pgparks.com/wp-content/uploads/2025/11/Holiday-Treats-KG-1-1.jpeg
END:VEVENT
BEGIN:VEVENT
DTSTART;TZID=America/New_York:20251214T100000
DTEND;TZID=America/New_York:20251214T160000
DTSTAMP:20260421T194013
CREATED:20251111T222642Z
LAST-MODIFIED:20251204T214502Z
UID:10000122-1765706400-1765728000@arts.pgparks.com
SUMMARY:Holiday Trains and Planes
DESCRIPTION:Board the “College Park Express” as we transform the College Park Aviation Museum gallery into a miniature holiday town from the past. Experience the holiday season and the thrill of our annual Trains and Planes program. Participate in a festive craft\, see the museum’s own train collection\, and “meet and greet” train hobbyists who will take you back in time to experience the sights and sounds of their train displays. Free with museum admission.
URL:https://arts.pgparks.com/event_list/holiday-trains-and-planes/2025-12-14
CATEGORIES:History,Holidays & Celebrations,Senior,Youth
ATTACH;FMTTYPE=image/jpeg:https://arts.pgparks.com/wp-content/uploads/2024/11/Holiday-Planes-Trains.jpg
END:VEVENT
BEGIN:VEVENT
DTSTART;TZID=America/New_York:20251220T100000
DTEND;TZID=America/New_York:20251220T120000
DTSTAMP:20260421T194013
CREATED:20251120T183935Z
LAST-MODIFIED:20251209T210423Z
UID:10000407-1766224800-1766232000@arts.pgparks.com
SUMMARY:Hands on History: Festival of Lights
DESCRIPTION:Join us for our Hands-On History program\, where we will make candles out of real bayberry wax and light them for luck in the New Year! At this special holiday event\, explore the local history of candle making and New Year’s traditions among the diverse communities of Maryland. Please note: children 10 & under must have a chaperone (no more than two adults per family).
URL:https://arts.pgparks.com/event_list/hands-on-history-winter-series-2
CATEGORIES:Arts,History,Holidays & Celebrations
ATTACH;FMTTYPE=image/jpeg:https://arts.pgparks.com/wp-content/uploads/2025/11/HOH-Festival-of-Lights-1.jpg
END:VEVENT
END:VCALENDAR