BEGIN:VCALENDAR
VERSION:2.0
PRODID:-//Park and Recreation - Prince Georges County MD - ECPv6.15.18//NONSGML v1.0//EN
CALSCALE:GREGORIAN
METHOD:PUBLISH
X-WR-CALNAME:Park and Recreation - Prince Georges County MD
X-ORIGINAL-URL:https://arts.pgparks.com
X-WR-CALDESC:Events for Park and Recreation - Prince Georges County MD
REFRESH-INTERVAL;VALUE=DURATION:PT1H
X-Robots-Tag:noindex
X-PUBLISHED-TTL:PT1H
BEGIN:VTIMEZONE
TZID:America/New_York
BEGIN:DAYLIGHT
TZOFFSETFROM:-0500
TZOFFSETTO:-0400
TZNAME:EDT
DTSTART:20250309T070000
END:DAYLIGHT
BEGIN:STANDARD
TZOFFSETFROM:-0400
TZOFFSETTO:-0500
TZNAME:EST
DTSTART:20251102T060000
END:STANDARD
BEGIN:DAYLIGHT
TZOFFSETFROM:-0500
TZOFFSETTO:-0400
TZNAME:EDT
DTSTART:20260308T070000
END:DAYLIGHT
BEGIN:STANDARD
TZOFFSETFROM:-0400
TZOFFSETTO:-0500
TZNAME:EST
DTSTART:20261101T060000
END:STANDARD
BEGIN:DAYLIGHT
TZOFFSETFROM:-0500
TZOFFSETTO:-0400
TZNAME:EDT
DTSTART:20270314T070000
END:DAYLIGHT
BEGIN:STANDARD
TZOFFSETFROM:-0400
TZOFFSETTO:-0500
TZNAME:EST
DTSTART:20271107T060000
END:STANDARD
END:VTIMEZONE
BEGIN:VEVENT
DTSTART;TZID=America/New_York:20260611T100000
DTEND;TZID=America/New_York:20261101T160000
DTSTAMP:20260421T181856
CREATED:20260116T154252Z
LAST-MODIFIED:20260312T151713Z
UID:10000970-1781172000-1793548800@arts.pgparks.com
SUMMARY:The African Odyssey Exhibition
DESCRIPTION:This exhibition is only open Thursdays-Sundays each week. It is closed on Mondays-Wednesdays\n\n\n\nMontpelier is honored to present\, in collaboration with the Braxton Institute\, Dr. Joanne Braxton’s moving photography of her odyssey to Ghana\, Ivory Coast\, and Senegal. The exhibit explores an unexpected\, very personal story and an encounter with ancestral memory. As a descendant of African people enslaved at Montpelier\, she hopes that you will see and feel some of what she saw and felt as she journeyed to discover the meaning of the words of her grandmother\, Emma Harrison\, “My father always said that we have a home over there.” Through her photography\, she honors her enslaved great-grandfather\, William Harrison\, and “diasporic Africans\, unwilling immigrants to the Chesapeake in the 17th and 18th centuries.” \n\n\n\nThis exhibition is produced in collaboration with the Braxton Institute for Sustainability\, Resiliency and Joy.
URL:https://arts.pgparks.com/event_list/the-african-odyssey-exhibition
CATEGORIES:Black History,Free,History
ATTACH;FMTTYPE=image/png:https://arts.pgparks.com/wp-content/uploads/2026/01/African-Odyssey-2026-600x400-1.png
END:VEVENT
BEGIN:VEVENT
DTSTART;TZID=America/New_York:20260611T190000
DTEND;TZID=America/New_York:20260611T200000
DTSTAMP:20260421T181856
CREATED:20260122T153713Z
LAST-MODIFIED:20260312T170017Z
UID:10001169-1781204400-1781208000@arts.pgparks.com
SUMMARY:A Legacy of Integration: The African American Citizen-Soldier and the Continental Army by Noel Poirier
DESCRIPTION:This lecture explores the often-overlooked contributions of African American soldiers in the Continental Army and reframes the narrative of the Revolutionary War by emphasizing the courage\, sacrifice\, and significance of African American citizen-soldiers in shaping America’s first integrated military force. Lecture with Question & Answer Session. To register\, call the museum.
URL:https://arts.pgparks.com/event_list/a-legacy-of-integration-the-african-american-citizen-soldier-and-the-continental-army-by-noel-poirier
CATEGORIES:250th Anniversary,Black History,Free,History,Literary,Virtual
ATTACH;FMTTYPE=image/png:https://arts.pgparks.com/wp-content/uploads/2026/01/Virtual-Lecture-1.png
END:VEVENT
BEGIN:VEVENT
DTSTART;TZID=America/New_York:20260624T000000
DTEND;TZID=America/New_York:20260624T000000
DTSTAMP:20260421T181856
CREATED:20260218T171502Z
LAST-MODIFIED:20260220T145550Z
UID:10001278-1782259200-1782259200@arts.pgparks.com
SUMMARY:Revolution\, Rebellion\, Treason: A Slice of History Discussion Series
DESCRIPTION:What are the differences between revolutions\, rebellions\, and acts of treason? Join the Surratt Historic Site & Museum as we take a long view of sparking change in American history\, beginning with the Declaration of Independence and concluding with our present day. Intended for our youngest and soon-to-be leaders\, this program will facilitate a shared understanding of what it means to be an engaged citizen in 2026 and beyond.
URL:https://arts.pgparks.com/event_list/revolution-rebellion-treason-a-slice-of-history-discussion-series
CATEGORIES:250th Anniversary,Black History,Free,History,Teens,Youth
ATTACH;FMTTYPE=image/jpeg:https://arts.pgparks.com/wp-content/uploads/2026/02/Revolution-rebellion-treason-2026-600x400-1.jpg
END:VEVENT
END:VCALENDAR