BEGIN:VCALENDAR
VERSION:2.0
PRODID:-//Park and Recreation - Prince Georges County MD - ECPv6.15.18//NONSGML v1.0//EN
CALSCALE:GREGORIAN
METHOD:PUBLISH
X-WR-CALNAME:Park and Recreation - Prince Georges County MD
X-ORIGINAL-URL:https://arts.pgparks.com
X-WR-CALDESC:Events for Park and Recreation - Prince Georges County MD
REFRESH-INTERVAL;VALUE=DURATION:PT1H
X-Robots-Tag:noindex
X-PUBLISHED-TTL:PT1H
BEGIN:VTIMEZONE
TZID:America/New_York
BEGIN:DAYLIGHT
TZOFFSETFROM:-0500
TZOFFSETTO:-0400
TZNAME:EDT
DTSTART:20250309T070000
END:DAYLIGHT
BEGIN:STANDARD
TZOFFSETFROM:-0400
TZOFFSETTO:-0500
TZNAME:EST
DTSTART:20251102T060000
END:STANDARD
BEGIN:DAYLIGHT
TZOFFSETFROM:-0500
TZOFFSETTO:-0400
TZNAME:EDT
DTSTART:20260308T070000
END:DAYLIGHT
BEGIN:STANDARD
TZOFFSETFROM:-0400
TZOFFSETTO:-0500
TZNAME:EST
DTSTART:20261101T060000
END:STANDARD
BEGIN:DAYLIGHT
TZOFFSETFROM:-0500
TZOFFSETTO:-0400
TZNAME:EDT
DTSTART:20270314T070000
END:DAYLIGHT
BEGIN:STANDARD
TZOFFSETFROM:-0400
TZOFFSETTO:-0500
TZNAME:EST
DTSTART:20271107T060000
END:STANDARD
END:VTIMEZONE
BEGIN:VEVENT
DTSTART;TZID=America/New_York:20260404T140000
DTEND;TZID=America/New_York:20260404T160000
DTSTAMP:20260421T210249
CREATED:20260213T155530Z
LAST-MODIFIED:20260316T162954Z
UID:10001246-1775311200-1775318400@arts.pgparks.com
SUMMARY:Unfinished Revolutions: 5th Annual Giving Voice Initiative Event
DESCRIPTION:Celebrate 250 years with poetry!Celebrate local\, Prince George’s County poets with the Marietta Historic Site & Museum. We worked with poetry mentors to help local poets use Marietta’s history to inspire Unfinished Revolutions\, a collection of poems marking the nation’s 250th anniversary. Light refreshments will be served.
URL:https://arts.pgparks.com/event_list/unfinished-revolutions-5th-annual-giving-voice-initiative-event
CATEGORIES:250th Anniversary,Arts,Free,History,Literary,Performance,Performances
ATTACH;FMTTYPE=image/jpeg:https://arts.pgparks.com/wp-content/uploads/2026/02/Unfinished-Revolutions-2026-600x400-1.jpg
END:VEVENT
BEGIN:VEVENT
DTSTART;TZID=America/New_York:20260409T190000
DTEND;TZID=America/New_York:20260409T200000
DTSTAMP:20260421T210249
CREATED:20260122T152747Z
LAST-MODIFIED:20260408T184256Z
UID:10001168-1775761200-1775764800@arts.pgparks.com
SUMMARY:Espionage and Enslavement in the Revolution: The True Story of Robert Townsend and Elizabeth by Claire Bellerjeau
DESCRIPTION:In this virtual book lecture you will discover the extraordinary journey of Elizabeth\, once enslaved by the Townsend Family of Oyster Bay\, NY. Follow her escape with British forces\, her heartbreaking re-enslavement in Manhattan and Charleston\, and her eventual path to freedom. Along the way\, Elizabeth crosses paths with influential figures on both sides of the Revolutionary War. Her story challenges us to revisit history with fresh eyes – expanding our understanding of who shaped the past and whose voices have been overlooked. Virtual lecture with Q&A session. To register\, call the museum. \n\n\n\n\nClick Here to join the virtual lecture
URL:https://arts.pgparks.com/event_list/espionage-and-enslavement-in-the-revolution-the-true-story-of-robert-townsend-and-elizabeth-by-claire-bellerjeau
CATEGORIES:250th Anniversary,Black History,Free,History,Lifestyle & Learning,Literary,Virtual
ATTACH;FMTTYPE=image/png:https://arts.pgparks.com/wp-content/uploads/2026/01/Virtual-Lecture-1.png
END:VEVENT
BEGIN:VEVENT
DTSTART;TZID=America/New_York:20260411T110000
DTEND;TZID=America/New_York:20260411T120000
DTSTAMP:20260421T210249
CREATED:20260213T151552Z
LAST-MODIFIED:20260220T182508Z
UID:10001243-1775905200-1775908800@arts.pgparks.com
SUMMARY:Unsung Heroes Who Shaped America: Book and Craft Series
DESCRIPTION:Some of the people who have made this country so awesome sometimes go unnoticed. To celebrate them and the incredible ways they have made this country better\, each installment of this series pairs a storybook about overlooked American trailblazers with a fun craft activity. In April\, we’ll be focusing on Indigenous history! \n\n\n\nThough staffed by the Surratt Historic Site & Museum\, this program is hosted at the Surratts-Clinton Branch of the Prince George’s County Memorial Library System.Address: Surratts-Clinton Branch Library\, 9400 Piscataway Rd\, Clinton\, MD 20735
URL:https://arts.pgparks.com/event_list/unsung-heroes-who-shaped-america-book-and-craft-series
CATEGORIES:250th Anniversary,Arts,Free,History,Literary,Youth
ATTACH;FMTTYPE=image/jpeg:https://arts.pgparks.com/wp-content/uploads/2026/02/Unsung-Heroes-2026-600x400-1.jpg
END:VEVENT
BEGIN:VEVENT
DTSTART;TZID=America/New_York:20260414T100000
DTEND;TZID=America/New_York:20260414T110000
DTSTAMP:20260421T210249
CREATED:20260401T161837Z
LAST-MODIFIED:20260403T123111Z
UID:10003272-1776160800-1776164400@arts.pgparks.com
SUMMARY:April Nature Science Club: Lizards & Crocodilians
DESCRIPTION:Join us at Watkins Nature Center for monthly science clubs designed for homeschool learners. Through stories\, short presentations\, guided hikes\, and hands‑on activities\, participants explore nature alongside peers. April’s theme highlights lizards and crocodilians. \n\n\n\nEach age group has its own science club time slot: \n\n\n\n• 10 am – 11 am: Nature Friends (ages 4-6) \n\n\n\n• 1 pm – 2 pm: Nature Rangers (ages 7-9) \n\n\n\n• 2:30 pm – 4 pm: Nature Explorers (ages 10-14) \n\n\n\nThis is a two‑part program series. Registration covers both program dates: April 14 and April 28. Only the first date is listed here. \n\n\n\nClick the registration button for additional details on age groups and program dates.
URL:https://arts.pgparks.com/event_list/april-nature-science-club-lizards-crocodilians
CATEGORIES:Lifestyle & Learning,Literary,Nature & Outdoor,Walks/Runs,Youth
ATTACH;FMTTYPE=image/jpeg:https://arts.pgparks.com/wp-content/uploads/2026/04/WonderfulWizardofWildlifeCamp25-63-1.jpg
END:VEVENT
BEGIN:VEVENT
DTSTART;TZID=America/New_York:20260415T110000
DTEND;TZID=America/New_York:20260415T120000
DTSTAMP:20260421T210249
CREATED:20260327T134636Z
LAST-MODIFIED:20260402T124045Z
UID:10003178-1776250800-1776254400@arts.pgparks.com
SUMMARY:Nature: Wild Reading
DESCRIPTION:Give your child a jump start in literacy as they enjoy a short story with a park naturalist\, followed by questions\, creative crafts\, nature exploration\, and a guided walk around the center to learn fun facts about live animals—making a love for reading feel like second nature. \n\n\n\nThis program\, held at Clearwater Nature Center\, requires all children to be individually registered in advance through ParksDirect\, must include a parent or guardian to assist with activities\, may be canceled if registrations are insufficient\, and may include outdoor components\, so please dress for the weather.
URL:https://arts.pgparks.com/event_list/nature-wild-reading/2026-04-15
CATEGORIES:Arts,Lifestyle & Learning,Literary,Nature & Outdoor,Youth
ATTACH;FMTTYPE=image/jpeg:https://arts.pgparks.com/wp-content/uploads/2024/10/1215221051a.jpg
END:VEVENT
BEGIN:VEVENT
DTSTART;TZID=America/New_York:20260416T183000
DTEND;TZID=America/New_York:20260416T200000
DTSTAMP:20260421T210249
CREATED:20260213T163931Z
LAST-MODIFIED:20260220T180753Z
UID:10001247-1776364200-1776369600@arts.pgparks.com
SUMMARY:Book Talk with Zaakir Tameez on Charles Sumner: Conscience of a Nation
DESCRIPTION:A virtual talk presented by author and historian Zaakir Tameez. This outstanding book is about the courageous Massachusetts senator Charles Sumner\, who is remembered for receiving a physical beating while serving in Congress and for his leadership during and after the U.S. Civil War for civil rights. Drawing from hundreds of letters\, newspapers\, and speeches\, Mr. Tameez has created a remarkable portrait of a complex man who faced many personal challenges. The book is a moving portrayal of a courageous\, long-overlooked American who\, in the words of one contemporary\, “stood in the vanguard of freedom.” \n\n\n\nVisitors must register to receive the TEAMS link to the program
URL:https://arts.pgparks.com/event_list/book-talk-with-zaakir-tameez-on-charles-sumner-conscience-of-a-nation
CATEGORIES:250th Anniversary,History,Literary,Virtual
ATTACH;FMTTYPE=image/jpeg:https://arts.pgparks.com/wp-content/uploads/2026/02/Zaakir-Tamees-Charles-Sumner-2026-600x400-1.jpg
END:VEVENT
BEGIN:VEVENT
DTSTART;TZID=America/New_York:20260421T190000
DTEND;TZID=America/New_York:20260421T210000
DTSTAMP:20260421T210249
CREATED:20251111T222736Z
LAST-MODIFIED:20260223T145648Z
UID:10000320-1776798000-1776805200@arts.pgparks.com
SUMMARY:Veterans Book Group
DESCRIPTION:Active service members and veterans of all eras are invited to join this free\, monthly small group reading and discussion dinner series centered around books which relate to military experiences or offer a veteran’s perspective. Veterans Book Group is coordinated statewide by Maryland Humanities and presented locally in partnership with Montpelier Arts Center. Discussions are led by Dr. Karen Arnold\, former poet-in-residence at the Arts Center and discussion moderator for multiple literature groups in Baltimore. Dinner and reading materials are provided. Call 301-377-7800 for more information and to register. Spaces are limited; registration is required by Jan. 6\, 2026. \n\n\n\nAges 18 & up; FREE; registration required
URL:https://arts.pgparks.com/event_list/veterans-book-group/2026-04-21
CATEGORIES:Arts,Free,Literary,Special Event,Special Events
END:VEVENT
BEGIN:VEVENT
DTSTART;TZID=America/New_York:20260509T100000
DTEND;TZID=America/New_York:20260509T113000
DTSTAMP:20260421T210249
CREATED:20251211T142252Z
LAST-MODIFIED:20260417T152454Z
UID:10000869-1778320800-1778326200@arts.pgparks.com
SUMMARY:Book Talk: The American Revolution and the Fate of the World
DESCRIPTION:Join University of Maryland College Park professor Dr. Richard Bell for an illuminating presentation of his new book\, The American Revolution and the Fate of the World. Discover the sweeping global impact of our nation’s founding through powerful\, personal stories\, including those of women\, minorities\, and other marginalized voices. Register in advance to secure your spot! Tickets are limited. Includes museum admission. \n\n\n\nSchedule of Events \n\n\n\n10-11 am: Book Talk11-11:30 am: Book Signing By Dr. Richard Bell (books available for purchase on-site)11:15 am-12 noon: (Optional) Changes in Transportation Tour \n\n\n\nRegistration closes May 6\, 2026.
URL:https://arts.pgparks.com/event_list/book-talk-the-american-revolution-and-the-fate-of-the-world
CATEGORIES:18 and up,250th Anniversary,History,Literary,Teens
ATTACH;FMTTYPE=image/png:https://arts.pgparks.com/wp-content/uploads/2025/12/Dr-Bell-Marketing.png
END:VEVENT
BEGIN:VEVENT
DTSTART;TZID=America/New_York:20260509T110000
DTEND;TZID=America/New_York:20260509T123000
DTSTAMP:20260421T210249
CREATED:20260313T170722Z
LAST-MODIFIED:20260402T140307Z
UID:10002442-1778324400-1778329800@arts.pgparks.com
SUMMARY:Pen & Pose: A Workshop in Yoga and Writing
DESCRIPTION:Join us for an inspiring 90-minute workshop with poet and yoga educator Yael Flusberg! Through a dynamic blend of breathwork\, yoga poses\, mindfulness practices\, and creative writing exercises\, you’ll discover new ways to connect with your body\, calm your mind\, and awaken your spirit. This is your chance to pause\, recharge\, and tap into your inner creativity. What to bring: comfortable clothing\, a yoga mat\, a pen\, and your favorite notebook. Come ready to move\, breathe\, and write your way to a deeper sense of balance and self-expression!
URL:https://arts.pgparks.com/event_list/pen-pose-a-workshop-in-yoga-and-writing
CATEGORIES:18 and up,Arts,Free,Literary,May is Fitness Month
ATTACH;FMTTYPE=image/jpeg:https://arts.pgparks.com/wp-content/uploads/2026/03/Pen-and-Pose-2026-600x400-1.jpg
END:VEVENT
BEGIN:VEVENT
DTSTART;TZID=America/New_York:20260519T190000
DTEND;TZID=America/New_York:20260519T210000
DTSTAMP:20260421T210249
CREATED:20251111T222736Z
LAST-MODIFIED:20260223T145648Z
UID:10000321-1779217200-1779224400@arts.pgparks.com
SUMMARY:Veterans Book Group
DESCRIPTION:Active service members and veterans of all eras are invited to join this free\, monthly small group reading and discussion dinner series centered around books which relate to military experiences or offer a veteran’s perspective. Veterans Book Group is coordinated statewide by Maryland Humanities and presented locally in partnership with Montpelier Arts Center. Discussions are led by Dr. Karen Arnold\, former poet-in-residence at the Arts Center and discussion moderator for multiple literature groups in Baltimore. Dinner and reading materials are provided. Call 301-377-7800 for more information and to register. Spaces are limited; registration is required by Jan. 6\, 2026. \n\n\n\nAges 18 & up; FREE; registration required
URL:https://arts.pgparks.com/event_list/veterans-book-group/2026-05-19
CATEGORIES:Arts,Free,Literary,Special Event,Special Events
END:VEVENT
BEGIN:VEVENT
DTSTART;TZID=America/New_York:20260520T110000
DTEND;TZID=America/New_York:20260520T120000
DTSTAMP:20260421T210249
CREATED:20260327T134636Z
LAST-MODIFIED:20260402T124045Z
UID:10003288-1779274800-1779278400@arts.pgparks.com
SUMMARY:Nature: Wild Reading
DESCRIPTION:Give your child a jump start in literacy as they enjoy a short story with a park naturalist\, followed by questions\, creative crafts\, nature exploration\, and a guided walk around the center to learn fun facts about live animals—making a love for reading feel like second nature. \n\n\n\nThis program\, held at Clearwater Nature Center\, requires all children to be individually registered in advance through ParksDirect\, must include a parent or guardian to assist with activities\, may be canceled if registrations are insufficient\, and may include outdoor components\, so please dress for the weather.
URL:https://arts.pgparks.com/event_list/nature-wild-reading/2026-05-20
CATEGORIES:Arts,Lifestyle & Learning,Literary,Nature & Outdoor,Youth
ATTACH;FMTTYPE=image/jpeg:https://arts.pgparks.com/wp-content/uploads/2024/10/1215221051a.jpg
END:VEVENT
BEGIN:VEVENT
DTSTART;TZID=America/New_York:20260611T190000
DTEND;TZID=America/New_York:20260611T200000
DTSTAMP:20260421T210249
CREATED:20260122T153713Z
LAST-MODIFIED:20260312T170017Z
UID:10001169-1781204400-1781208000@arts.pgparks.com
SUMMARY:A Legacy of Integration: The African American Citizen-Soldier and the Continental Army by Noel Poirier
DESCRIPTION:This lecture explores the often-overlooked contributions of African American soldiers in the Continental Army and reframes the narrative of the Revolutionary War by emphasizing the courage\, sacrifice\, and significance of African American citizen-soldiers in shaping America’s first integrated military force. Lecture with Question & Answer Session. To register\, call the museum.
URL:https://arts.pgparks.com/event_list/a-legacy-of-integration-the-african-american-citizen-soldier-and-the-continental-army-by-noel-poirier
CATEGORIES:250th Anniversary,Black History,Free,History,Literary,Virtual
ATTACH;FMTTYPE=image/png:https://arts.pgparks.com/wp-content/uploads/2026/01/Virtual-Lecture-1.png
END:VEVENT
BEGIN:VEVENT
DTSTART;TZID=America/New_York:20260910T190000
DTEND;TZID=America/New_York:20260910T200000
DTSTAMP:20260421T210249
CREATED:20260122T154611Z
LAST-MODIFIED:20260312T170320Z
UID:10001170-1789066800-1789070400@arts.pgparks.com
SUMMARY:Women’s Rights and the American Revolution by Dr. Richard Bell
DESCRIPTION:In the decade leading up to American independence\, white women took on crucial roles in a series of boycotts\, petitions\, and protests that allowed them to assert themselves as political actors as never before. The lecture examines the struggle to define white women’s place in politics\, voting\, and public leadership. Lecture with Question & Answer Session. To register\, call the museum.
URL:https://arts.pgparks.com/event_list/womens-rights-and-the-american-revolution-by-dr-richard-bell
CATEGORIES:250th Anniversary,Black History,Free,History,Literary,Virtual
ATTACH;FMTTYPE=image/png:https://arts.pgparks.com/wp-content/uploads/2026/01/Virtual-Lecture-1.png
END:VEVENT
BEGIN:VEVENT
DTSTART;TZID=America/New_York:20261008T190000
DTEND;TZID=America/New_York:20261008T200000
DTSTAMP:20260421T210249
CREATED:20260122T154942Z
LAST-MODIFIED:20260312T170419Z
UID:10001171-1791486000-1791489600@arts.pgparks.com
SUMMARY:Untold Stories of the American Revolution by Dr. Richard Bell
DESCRIPTION:Most people know something about the American Revolution and about the Founding Fathers. But the full story of the Revolution requires us to look beyond their lives and expand its cast of characters. This lecture examines four other revolutionary lives: an immigrant propagandist\, a female soldier\, a fugitive from slavery\, and the grieving widow who became the most important Native American leader during the war. Virtual lecture with Q&A session. To register\, call the museum.
URL:https://arts.pgparks.com/event_list/untold-stories-of-the-american-revolution-by-dr-richard-bell
CATEGORIES:250th Anniversary,Black History,Free,History,Literary,Virtual
ATTACH;FMTTYPE=image/png:https://arts.pgparks.com/wp-content/uploads/2026/01/Virtual-Lecture-1.png
END:VEVENT
END:VCALENDAR