BEGIN:VCALENDAR
VERSION:2.0
PRODID:-//Park and Recreation - Prince Georges County MD - ECPv6.15.18//NONSGML v1.0//EN
CALSCALE:GREGORIAN
METHOD:PUBLISH
X-WR-CALNAME:Park and Recreation - Prince Georges County MD
X-ORIGINAL-URL:https://arts.pgparks.com
X-WR-CALDESC:Events for Park and Recreation - Prince Georges County MD
REFRESH-INTERVAL;VALUE=DURATION:PT1H
X-Robots-Tag:noindex
X-PUBLISHED-TTL:PT1H
BEGIN:VTIMEZONE
TZID:America/New_York
BEGIN:DAYLIGHT
TZOFFSETFROM:-0500
TZOFFSETTO:-0400
TZNAME:EDT
DTSTART:20250309T070000
END:DAYLIGHT
BEGIN:STANDARD
TZOFFSETFROM:-0400
TZOFFSETTO:-0500
TZNAME:EST
DTSTART:20251102T060000
END:STANDARD
BEGIN:DAYLIGHT
TZOFFSETFROM:-0500
TZOFFSETTO:-0400
TZNAME:EDT
DTSTART:20260308T070000
END:DAYLIGHT
BEGIN:STANDARD
TZOFFSETFROM:-0400
TZOFFSETTO:-0500
TZNAME:EST
DTSTART:20261101T060000
END:STANDARD
BEGIN:DAYLIGHT
TZOFFSETFROM:-0500
TZOFFSETTO:-0400
TZNAME:EDT
DTSTART:20270314T070000
END:DAYLIGHT
BEGIN:STANDARD
TZOFFSETFROM:-0400
TZOFFSETTO:-0500
TZNAME:EST
DTSTART:20271107T060000
END:STANDARD
END:VTIMEZONE
BEGIN:VEVENT
DTSTART;TZID=America/New_York:20260502T100000
DTEND;TZID=America/New_York:20260502T140000
DTSTAMP:20260421T182031
CREATED:20260313T185349Z
LAST-MODIFIED:20260417T175018Z
UID:10002450-1777716000-1777730400@arts.pgparks.com
SUMMARY:Health and Wellness Fair
DESCRIPTION:Join us at the Southern Area Aquatic and Recreation Complex for a fun and exciting health fair designed to promote wellness and fitness education\, and encourage healthier lifestyles.
URL:https://arts.pgparks.com/event_list/health-and-wellness-fair
CATEGORIES:18 and up,Free,Health & Wellness,May is Fitness Month,Special Event
ATTACH;FMTTYPE=image/jpeg:https://arts.pgparks.com/wp-content/uploads/2026/03/Health-Fair-2026-600x400-1.jpg
END:VEVENT
BEGIN:VEVENT
DTSTART;TZID=America/New_York:20260502T110000
DTEND;TZID=America/New_York:20260502T150000
DTSTAMP:20260421T182031
CREATED:20260319T131700Z
LAST-MODIFIED:20260323T171901Z
UID:10002796-1777719600-1777734000@arts.pgparks.com
SUMMARY:Sesquicentennial Family Day at Marietta
DESCRIPTION:Prince George’s County is a special place to live\, rich with history\, culture\, and community care. Join us at Marietta Historic Site & Museum for a fun-filled day featuring African drumming performances from 1-3 pm. All the historic buildings will be open for visitors\, a children’s craft tent will offer easy make-and-take projects\, and an archaeology table offers hands-on exploration. The Farmers Market will be on site from 9 am-1 pm.
URL:https://arts.pgparks.com/event_list/sesquicentennial-family-day-at-marietta
CATEGORIES:All Ages,Free,Special Event
ATTACH;FMTTYPE=image/jpeg:https://arts.pgparks.com/wp-content/uploads/2026/03/Sesquicentennial-Family-Day-2026-600x400-1.jpg
END:VEVENT
BEGIN:VEVENT
DTSTART;TZID=America/New_York:20260502T130000
DTEND;TZID=America/New_York:20260502T150000
DTSTAMP:20260421T182031
CREATED:20251111T222704Z
LAST-MODIFIED:20260220T173243Z
UID:10000190-1777726800-1777734000@arts.pgparks.com
SUMMARY:Paper Flower Sculptures
DESCRIPTION:Celebrate Spring in full bloom with a paper flower-making workshop! Learn techniques to craft delicate and vibrant paper flowers that will never wilt—perfect for home décor or gifts.
URL:https://arts.pgparks.com/event_list/paper-flower-sculptures
CATEGORIES:All Ages,Arts,Special Event
ATTACH;FMTTYPE=image/jpeg:https://arts.pgparks.com/wp-content/uploads/2025/07/Paper-Flower-Sculptures.jpg
END:VEVENT
BEGIN:VEVENT
DTSTART;TZID=America/New_York:20260502T130000
DTEND;TZID=America/New_York:20260502T160000
DTSTAMP:20260421T182031
CREATED:20260415T144559Z
LAST-MODIFIED:20260417T173102Z
UID:10003384-1777726800-1777737600@arts.pgparks.com
SUMMARY:Asian American Native Hawaiian Pacific Islander Heritage Month Celebration
DESCRIPTION:Celebrate culture\, community\, and creativity at our annual AANHPI Heritage Month Celebration on Saturday\, May 2\, from 1-4 pm! Enjoy a vibrant afternoon featuring delicious AANHPI cuisine\, Japanese calligraphy\, henna art\, AANHPI trivia\, Filipino dance\, a Chinese tea ceremony performance\, and more. Come early and kick things off with a Bollywood Fitness Flow workout at 12 noon in the dance studio. Don’t miss this enriching celebration for all ages!
URL:https://arts.pgparks.com/event_list/asian-american-native-hawaiian-pacific-islander-heritage-month-celebration
CATEGORIES:All Ages,Arts,Heritage Celebrations,Special Event
ATTACH;FMTTYPE=image/jpeg:https://arts.pgparks.com/wp-content/uploads/2026/04/AANHPIHeritageMonthCelebration25-242-1.jpg
END:VEVENT
BEGIN:VEVENT
DTSTART;TZID=America/New_York:20260502T153000
DTEND;TZID=America/New_York:20260502T193000
DTSTAMP:20260421T182031
CREATED:20260306T162201Z
LAST-MODIFIED:20260310T131259Z
UID:10002417-1777735800-1777750200@arts.pgparks.com
SUMMARY:Hats & Horses: An Afternoon at the Races
DESCRIPTION:Dress in your sharpest race‑day style and join us at The Show Place Arena for an elevated watch party where refined looks meet big‑screen thrills. Enjoy live jazz music performed by Kevin Levi & Friends\, chef‑inspired bites\, and crafted cocktails as the season’s marquee horse race unfolds. Big hats\, bold flavors\, and winning vibes all around! \n\n\n\n \n\n\n\nPricing: \n\n\n\n* Pre‑sale: $100 per person* At the door: $125 per person \n\n\n\nDon’t miss out—save big when you buy early! \n\n\n\nShow Place Arena Box Office Hours: Tuesday-Thursday\, 12 noon-4 pm \n\n\n\nPhone: For more information\, call 301-952-7900
URL:https://arts.pgparks.com/event_list/hats-horses-a-afternoon-at-the-races
CATEGORIES:Special Event
ATTACH;FMTTYPE=image/jpeg:https://arts.pgparks.com/wp-content/uploads/2026/03/Hats-and-Horses-2026-600x400-1.jpg
END:VEVENT
BEGIN:VEVENT
DTSTART;TZID=America/New_York:20260506T140000
DTEND;TZID=America/New_York:20260506T150000
DTSTAMP:20260421T182031
CREATED:20251111T222642Z
LAST-MODIFIED:20260317T150027Z
UID:10000127-1778076000-1778079600@arts.pgparks.com
SUMMARY:Immersive Sound Meditation
DESCRIPTION:May is National Physical Fitness & Sports Month! Take a trip to a calming destination as the Publick Playhouse stage transforms into a peaceful retreat. Sound Meditation provides an opportunity to slow down and dive deeper into a state of relaxation to bring balance to your mental\, physical and spiritual health. The use of instruments such as crystal and Himalayan singing bowls\, chimes\, bells\, gong and voice blend together to invite the mind to a state of calm and the body to release held emotions and tension. Whether you are looking to try something new\, meditate or seek a moment of peace\, sound meditation can help you do it. Space is limited; advanced registration is recommended.
URL:https://arts.pgparks.com/event_list/immersive-sound-meditation
CATEGORIES:18 and up,Arts,Health & Wellness,May is Fitness Month,Special Event
ATTACH;FMTTYPE=image/jpeg:https://arts.pgparks.com/wp-content/uploads/2025/07/Meditation-400x400-1.jpg
END:VEVENT
BEGIN:VEVENT
DTSTART;TZID=America/New_York:20260508T190000
DTEND;TZID=America/New_York:20260508T203000
DTSTAMP:20260421T182031
CREATED:20260313T153900Z
LAST-MODIFIED:20260316T154949Z
UID:10002431-1778266800-1778272200@arts.pgparks.com
SUMMARY:Glow & Groove: A Special Ladies & Kids Dance
DESCRIPTION:Kids are invited to take mom or some other special lady for a spin on the dance floor. At this come-as-you-are party\, we will provide the music and the refreshments.
URL:https://arts.pgparks.com/event_list/glow-groove-a-special-ladies-kids-dance
CATEGORIES:Special Event,Youth
ATTACH;FMTTYPE=image/jpeg:https://arts.pgparks.com/wp-content/uploads/2026/03/Glow-and-Groove-2026-600x400-1.jpg
END:VEVENT
BEGIN:VEVENT
DTSTART;TZID=America/New_York:20260509T120000
DTEND;TZID=America/New_York:20260509T150000
DTSTAMP:20260421T182031
CREATED:20260327T184227Z
LAST-MODIFIED:20260417T140030Z
UID:10003200-1778328000-1778338800@arts.pgparks.com
SUMMARY:Heritage in Action: A Day Celebrating Community and Culture
DESCRIPTION:Join us for a powerful day dedicated to honoring and preserving the voices\, struggles\, and triumphs of minority communities. Through storytelling\, genealogy\, and cultural preservation activities\, we’ll build bridges between generations and ensure that these rich legacies are not lost to time. Come connect\, share\, and take part in preserving the history that shapes our future.  \n\n\n\nIncludes: We the People Genealogy Series: Session II.
URL:https://arts.pgparks.com/event_list/heritage-in-action-a-day-celebrating-community-and-culture
CATEGORIES:All Ages,Free,History,Special Event
ATTACH;FMTTYPE=image/jpeg:https://arts.pgparks.com/wp-content/uploads/2026/03/Heritage-in-Action-2026-600x400-1.jpg
END:VEVENT
BEGIN:VEVENT
DTSTART;TZID=America/New_York:20260514T110000
DTEND;TZID=America/New_York:20260514T123000
DTSTAMP:20260421T182031
CREATED:20251111T222627Z
LAST-MODIFIED:20251118T210916Z
UID:10000084-1778756400-1778761800@arts.pgparks.com
SUMMARY:Film Screening: Grandpa Was an Emperor (2021)
DESCRIPTION:This documentary follows Yeshi Kassa\, great-granddaughter of Emperor Haile Selassie of Ethiopia\, as she embarks on a personal quest to discover what happened to her closest relatives during the coup of 1974. While Yeshi and her older sister were thousands of miles away in a British boarding school\, her great-grandfather was deposed by a revolution\, setting off a harrowing chain of events that would put her parents and siblings in grave danger. For the first time\, the royal family examines the events that led to the collapse of a 3\,000-year-old dynasty and reflects on how\, against all odds\, they survived this turbulent time in Ethiopian history.Not Rated | Run time: 1h 30m
URL:https://arts.pgparks.com/event_list/film-screening-grandpa-was-an-emperor-2021
CATEGORIES:Arts,Senior,Special Event
ATTACH;FMTTYPE=image/jpeg:https://arts.pgparks.com/wp-content/uploads/2025/07/Grandpa-was-a-Emperor-400x400-1.jpg
END:VEVENT
BEGIN:VEVENT
DTSTART;TZID=America/New_York:20260515T190000
DTEND;TZID=America/New_York:20260515T220000
DTSTAMP:20260421T182031
CREATED:20260402T152020Z
LAST-MODIFIED:20260417T145306Z
UID:10003380-1778871600-1778882400@arts.pgparks.com
SUMMARY:Mayhem in May: Community Centers Teen Competition
DESCRIPTION:It’s all about FUN–and it’s all about competition\, as teens representing three community centers square off in an epic showdown to claim the coveted Mayhem in May title. Compete in the Football Distance Toss\, Scooter Race\, Outdoor Obstacle Course\, Egg Toss\, Musical Chairs and more! \n\n\n\nNot competitive\, but still up for a good time? Enjoy the Create & Chill Zone featuring outdoor skating\, video game station\, arts & crafts\, a 360° Photo Booth\, light refreshments\, and more! \n\n\n\nFREE \n\n\n\nNO REGISTRATION IS REQUIRED.To compete\, contact your  local community center: \n\n\n\nNRLS Community CentersTeen Nights \n\n\n\n\n\n\n\nCommunity CenterTeen Night DaysHoursTeens/Pre-TeensBeltsville*Fridays & Saturdays7-10 pmTeensBerwyn HeightsFridays7-10 pmTeensBladensburgFridays & Saturdays7-10 pmTeensBowieFridays7-10 pmTeensCedar HeightsFridays7-10 pmTeensCollege Park Youth ServicesFridays6-9 pmTeensColumbia ParkFridays6-9 pmPre-TeensDeerfield Run**Fridays7-10 pmTeensGlenardenFridays7-10 pmTeensGlenn DaleFridays7-10 pmTeensGood LuckCLOSED7-10 pmTeensHuntingtonFridays7-10 pmTeensKentlandFridays7-10 pmTeensLake ArborFridays & Saturdays7-10 pmTeensLakeland College ParkFridays7-10 pmTeensLangley ParkFridays7-10 pmTeens & Pre-TeensLargo Kettering PerrywoodFridays7-10 pmTeensNorth BrentwoodFridays & Saturdays7-10 pmTeens & Pre-TeensPalmer ParkFridays7-10 pmTeensPeppermillFridays7-10 pmTeensPrince George’s PlazaFridays & Saturdays7-10 pmTeensRollingcrest-ChillumFridays7-10 pmTeens & Pre-TeensSeat PleasantFridays & Saturdays7-10 pmTeens & Pre-TeensSouth BowieFridays & Saturdays6-9 pmFri – Pre-Teens; Saturday – TeensVansvilleFridays7-10 pmTeens\n\n\n\n*Beltsville hosts Saturday Nights September to June**Deerfield Run hosts Saturday Nights June to September \n\n\n\nFor more information\, contact Lakeland College Park Community Center301-441-2647 | collegparkcc@com \n\n\n\nPrince George’s County Public Schools is not sponsoring\, endorsing\, or recommending the activities announced here.
URL:https://arts.pgparks.com/event_list/mayhem-in-may
CATEGORIES:Free,May is Fitness Month,Special Event,Teens
ATTACH;FMTTYPE=image/jpeg:https://arts.pgparks.com/wp-content/uploads/2026/04/Mayhem-in-May-2026-600x400-1.jpg
END:VEVENT
BEGIN:VEVENT
DTSTART;TZID=America/New_York:20260516T110000
DTEND;TZID=America/New_York:20260516T140000
DTSTAMP:20260421T182031
CREATED:20260313T193924Z
LAST-MODIFIED:20260417T144048Z
UID:10002464-1778929200-1778940000@arts.pgparks.com
SUMMARY:North Brentwood Community Center Open House
DESCRIPTION:Celebrate National Physical Fitness and Sports Month with us! Join us for an exciting day with activities for different ages\, and find the perfect way to stay active and healthy. This special event is your chance to explore all the amazing fitness classes.
URL:https://arts.pgparks.com/event_list/north-brentwood-community-center-open-house
CATEGORIES:All Ages,Free,May is Fitness Month,Special Event
ATTACH;FMTTYPE=image/jpeg:https://arts.pgparks.com/wp-content/uploads/2026/03/North-Brentwood-CC-Open-House-2026-600x400-1.jpg
END:VEVENT
BEGIN:VEVENT
DTSTART;TZID=America/New_York:20260516T110000
DTEND;TZID=America/New_York:20260516T150000
DTSTAMP:20260421T182031
CREATED:20260320T160158Z
LAST-MODIFIED:20260417T144212Z
UID:10003132-1778929200-1778943600@arts.pgparks.com
SUMMARY:Wonderful World of Fitness Open House: Transforming Mind\, Body\, and Beyond
DESCRIPTION:This open house is packed with activities and resources to help you achieve total wellness. What’s included:  \n\n\n\n*Dynamic Group Exercise Classes: Try out energizing classes that get your heart pumping and your body moving.  \n\n\n\n*Chronic Disease Management Workshops: Learn how fitness and lifestyle changes can support better health management.  \n\n\n\n*Live Demos: Explore new equipment\, workout techniques\, and wellness tools in hands-on demonstrations.
URL:https://arts.pgparks.com/event_list/wonderful-world-of-fitness-transforming-mind-body-and-beyond
CATEGORIES:18 and up,Free,May is Fitness Month,Special Event,Teens
ATTACH;FMTTYPE=image/jpeg:https://arts.pgparks.com/wp-content/uploads/2026/03/Wonderful-World-of-Fitness-2026-600x400-1.jpg
END:VEVENT
BEGIN:VEVENT
DTSTART;TZID=America/New_York:20260516T110000
DTEND;TZID=America/New_York:20260516T150000
DTSTAMP:20260421T182031
CREATED:20260415T165243Z
LAST-MODIFIED:20260417T143310Z
UID:10003385-1778929200-1778943600@arts.pgparks.com
SUMMARY:Celebrating Lakeland
DESCRIPTION:Join us for a festive community day featuring music\, activities\, and food! The community-based exhibition was developed in partnership with Lakeland Community Heritage Project (LCHP) and in close consultation with Lakelandcommunity members.
URL:https://arts.pgparks.com/event_list/celebrating-lakeland
CATEGORIES:All Ages,Free,Outdoor Performances,Special Event
ATTACH;FMTTYPE=image/jpeg:https://arts.pgparks.com/wp-content/uploads/2026/04/Lakeland-May-Day-dancing.jpg
END:VEVENT
BEGIN:VEVENT
DTSTART;TZID=America/New_York:20260516T140000
DTEND;TZID=America/New_York:20260516T160000
DTSTAMP:20260421T182031
CREATED:20251111T222649Z
LAST-MODIFIED:20260220T165742Z
UID:10000154-1778940000-1778947200@arts.pgparks.com
SUMMARY:Lion (2016)
DESCRIPTION:Lion is a 2016 biographical drama film directed by Garth Davis\, based on the true story of Saroo Brierley. The film stars Dev Patel\, Sunny Pawar\, Rooney Mara\, David Wenham\, and Nicole Kidman. The story follows a five-year-old Indian boy named Saroo who gets lost on a train that takes him thousands of kilometers away from his home and family. After surviving on the streets of Calcutta\, he is eventually adopted by an Australian couple. Twenty-five years later\, Saroo\, now an adult\, embarks on a journey to find his lost family using memories and Google Earth.
URL:https://arts.pgparks.com/event_list/lion-2016
CATEGORIES:All Ages,Arts,Special Event
ATTACH;FMTTYPE=image/jpeg:https://arts.pgparks.com/wp-content/uploads/2025/08/Lion-2016.jpg
END:VEVENT
BEGIN:VEVENT
DTSTART;TZID=America/New_York:20260519T190000
DTEND;TZID=America/New_York:20260519T210000
DTSTAMP:20260421T182031
CREATED:20251111T222736Z
LAST-MODIFIED:20260223T145648Z
UID:10000321-1779217200-1779224400@arts.pgparks.com
SUMMARY:Veterans Book Group
DESCRIPTION:Active service members and veterans of all eras are invited to join this free\, monthly small group reading and discussion dinner series centered around books which relate to military experiences or offer a veteran’s perspective. Veterans Book Group is coordinated statewide by Maryland Humanities and presented locally in partnership with Montpelier Arts Center. Discussions are led by Dr. Karen Arnold\, former poet-in-residence at the Arts Center and discussion moderator for multiple literature groups in Baltimore. Dinner and reading materials are provided. Call 301-377-7800 for more information and to register. Spaces are limited; registration is required by Jan. 6\, 2026. \n\n\n\nAges 18 & up; FREE; registration required
URL:https://arts.pgparks.com/event_list/veterans-book-group/2026-05-19
CATEGORIES:Arts,Free,Literary,Special Event,Special Events
END:VEVENT
BEGIN:VEVENT
DTSTART;TZID=America/New_York:20260522T120000
DTEND;TZID=America/New_York:20260522T150000
DTSTAMP:20260421T182031
CREATED:20260204T150410Z
LAST-MODIFIED:20260313T204704Z
UID:10001179-1779451200-1779462000@arts.pgparks.com
SUMMARY:Tea-Tastic Tea Party
DESCRIPTION:Join us for an afternoon of music\, games\, snacks\, and of course\, tea!
URL:https://arts.pgparks.com/event_list/tea-tastic-tea-party
CATEGORIES:Special Event
ATTACH;FMTTYPE=image/jpeg:https://arts.pgparks.com/wp-content/uploads/2026/02/Tea-Tastic-Tea-Party-2026-600x400-1.jpg
END:VEVENT
BEGIN:VEVENT
DTSTART;TZID=America/New_York:20260522T190000
DTEND;TZID=America/New_York:20260522T200000
DTSTAMP:20260421T182031
CREATED:20251111T222736Z
LAST-MODIFIED:20260402T133510Z
UID:10000331-1779476400-1779480000@arts.pgparks.com
SUMMARY:Yoga & Jazz
DESCRIPTION:Breathe in\, breathe out! Relax and find your center at a yoga class featuring live jazz music in Montpelier Arts Center’s Main Gallery. Wear comfortable clothing and bring a yoga mat.
URL:https://arts.pgparks.com/event_list/yoga-jazz
CATEGORIES:Arts,Free,Health & Wellness,May is Fitness Month,Performance,Special Event
ATTACH;FMTTYPE=image/png:https://arts.pgparks.com/wp-content/uploads/2025/09/Yoga-and-Jazz-400x400-1.png
END:VEVENT
BEGIN:VEVENT
DTSTART;TZID=America/New_York:20260523T100000
DTEND;TZID=America/New_York:20260523T150000
DTSTAMP:20260421T182031
CREATED:20260219T143947Z
LAST-MODIFIED:20260417T141657Z
UID:10001296-1779530400-1779548400@arts.pgparks.com
SUMMARY:Park Shredders Skate Jam
DESCRIPTION:Join us for a high-energy skate jam open to skaters of all skill levels. Ride\, connect\, and enjoy a fun day at the skatepark! Live art installation by Ryan Allen.
URL:https://arts.pgparks.com/event_list/park-shredders-skate-jam
CATEGORIES:Free,May is Fitness Month,Special Event,Teens,Youth
ATTACH;FMTTYPE=image/jpeg:https://arts.pgparks.com/wp-content/uploads/2026/02/Park-Shredders-Skate-Jam-2026-6-00x400-1.jpg
END:VEVENT
BEGIN:VEVENT
DTSTART;TZID=America/New_York:20260530T130000
DTEND;TZID=America/New_York:20260530T134500
DTSTAMP:20260421T182031
CREATED:20260401T185203Z
LAST-MODIFIED:20260402T135205Z
UID:10003278-1780146000-1780148700@arts.pgparks.com
SUMMARY:Black Birders Week: Wings of Watkins
DESCRIPTION:Come face-to-face with a powerful bird of prey! Learn all about what makes raptors so incredible\, then enjoy a thrilling training session and watch a bird take flight in an exciting live demonstration. Parents and chaperones of children attending this program must also be registered to attend.
URL:https://arts.pgparks.com/event_list/black-birders-week-wings-of-watkins
CATEGORIES:Free,Lifestyle & Learning,Nature & Outdoor,Special Event,Youth
ATTACH;FMTTYPE=image/jpeg:https://arts.pgparks.com/wp-content/uploads/2026/04/WoollyBearWingding25-045.jpg
END:VEVENT
BEGIN:VEVENT
DTSTART;TZID=America/New_York:20260606T130000
DTEND;TZID=America/New_York:20260606T160000
DTSTAMP:20260421T182031
CREATED:20251111T222620Z
LAST-MODIFIED:20260413T190658Z
UID:10000057-1780750800-1780761600@arts.pgparks.com
SUMMARY:Canceled - Creative Entrepreneurship & Scaling Your Business
DESCRIPTION:Take your creative practice to the next level by learning business strategies\, marketing\, and growth techniques to expand your artistic brand and maximize success.
URL:https://arts.pgparks.com/event_list/creative-entrepreneurship-scaling-your-business
CATEGORIES:All Ages,Arts,Free,Special Event,Special Events,Workshops
END:VEVENT
BEGIN:VEVENT
DTSTART;TZID=America/New_York:20260611T190000
DTEND;TZID=America/New_York:20260611T210000
DTSTAMP:20260421T182031
CREATED:20251111T222613Z
LAST-MODIFIED:20260220T151754Z
UID:10000038-1781204400-1781211600@arts.pgparks.com
SUMMARY:Basquiat
DESCRIPTION:Starring Jeffrey Wright\, this film tells the story of Jean-Michel Basquiat\, a young graffiti artist who skyrocketed to fame in the 1980s New York art scene. Featuring a star-studded cast\, Basquiat captures the artist’s meteoric rise\, his complex relationship with fame\, and his artistic brilliance.
URL:https://arts.pgparks.com/event_list/basquiat
CATEGORIES:Arts,Free,Special Event
ATTACH;FMTTYPE=image/png:https://arts.pgparks.com/wp-content/uploads/2025/07/Basquiat-400x400-1.png
END:VEVENT
BEGIN:VEVENT
DTSTART;TZID=America/New_York:20260627T130000
DTEND;TZID=America/New_York:20260627T150000
DTSTAMP:20260421T182031
CREATED:20251211T152155Z
LAST-MODIFIED:20260223T222424Z
UID:10000871-1782565200-1782572400@arts.pgparks.com
SUMMARY:Pop 'Til You Drop
DESCRIPTION:Join us for bubbles\, music\, games\, and activities. All participants must be accompanied by an adult. \n\n\n\nThis event will feature bubble stations\, bubble art\, a foam zone\, a bubble dance party\, and bubble themed treats. Refreshments will be available while supplies last.
URL:https://arts.pgparks.com/event_list/pop-til-you-drop
CATEGORIES:Arts,Special Event,Youth
ATTACH;FMTTYPE=image/png:https://arts.pgparks.com/wp-content/uploads/2025/12/Pop-til-you-drop-600x400-1.png
END:VEVENT
BEGIN:VEVENT
DTSTART;TZID=America/New_York:20260709T190000
DTEND;TZID=America/New_York:20260709T210000
DTSTAMP:20260421T182031
CREATED:20251111T222634Z
LAST-MODIFIED:20260220T145238Z
UID:10000086-1783623600-1783630800@arts.pgparks.com
SUMMARY:Frida
DESCRIPTION:Salma Hayek delivers a stunning performance as Frida Kahlo\, the celebrated Mexican artist known for her striking self-portraits and unfiltered storytelling. This visually rich biopic delves into Kahlo’s personal struggles\, revolutionary spirit\, and enduring influence on the art world.
URL:https://arts.pgparks.com/event_list/frida
CATEGORIES:Arts,Free,Special Event
ATTACH;FMTTYPE=image/png:https://arts.pgparks.com/wp-content/uploads/2025/07/Frida-400x400-1.png
END:VEVENT
BEGIN:VEVENT
DTSTART;TZID=America/New_York:20260725T160000
DTEND;TZID=America/New_York:20260725T200000
DTSTAMP:20260421T182031
CREATED:20260304T161147Z
LAST-MODIFIED:20260306T192429Z
UID:10002410-1784995200-1785009600@arts.pgparks.com
SUMMARY:Crab Feast Live: Beats\, Bands\, & Bushels
DESCRIPTION:Dive into an unforgettable day filled with crabs\, BBQ-style food\, delicious sides\, refreshing drinks\, and nonstop vibes. Enjoy music by a live band and DJ. This is the feast-and-festival combo you’ve been waiting for! Bring your appetite\, bring your crew\, and get ready to crack\, dance\, and celebrate all day long.  \n\n\n\nNote: Only clear “stadium” style bags and small “clutch” style purses will be allowed in.  \n\n\n\nDon’t miss out—save big when you buy early! Tickets are available online at Universe.com or at The Show Place Arena box office. \n\n\n\nFor more information\, call 301-952-7900 or email ShowPlaceArena@pgparks.com
URL:https://arts.pgparks.com/event_list/crab-feast-live
CATEGORIES:All Ages,Special Event
ATTACH;FMTTYPE=image/jpeg:https://arts.pgparks.com/wp-content/uploads/2026/03/Crab-Feast-Live-2026-600x400-1.jpg
END:VEVENT
BEGIN:VEVENT
DTSTART;TZID=America/New_York:20260813T190000
DTEND;TZID=America/New_York:20260813T210000
DTSTAMP:20260421T182031
CREATED:20251111T222704Z
LAST-MODIFIED:20260401T210320Z
UID:10000200-1786647600-1786654800@arts.pgparks.com
SUMMARY:Pollock
DESCRIPTION:Ed Harris stars as Jackson Pollock\, the troubled yet brilliant artist whose drip painting technique changed the course of modern art. This intense and intimate portrayal explores Pollock’s creative process\, personal demons\, and his place in the Abstract Expressionist movement.
URL:https://arts.pgparks.com/event_list/pollock
CATEGORIES:Arts,Free,Special Event
ATTACH;FMTTYPE=image/png:https://arts.pgparks.com/wp-content/uploads/2025/07/Pollock-400x400-1.png
END:VEVENT
BEGIN:VEVENT
DTSTART;VALUE=DATE:20260918
DTEND;VALUE=DATE:20260920
DTSTAMP:20260421T182031
CREATED:20251224T181647Z
LAST-MODIFIED:20260312T150434Z
UID:10002413-1789689600-1789862399@arts.pgparks.com
SUMMARY:Bill Pickett Invitational Rodeo
DESCRIPTION:Ticketed Rodeo Event. Guests are recommended to only purchase tickets through Ticketmaster.com. Tickets may be resold by buyers through Ticketmaster\, but only 10% above face value. We cannot control how tickets are resold outside of Ticketmaster and cannot guarantee authenticity nor provide customer service to these sales.Adults: $52 at the Show Place Arena Box Office; Additional Fees Online \n\n\n\nChildren (2-12): $45 at the Show Place Arena Box Office; Additional Fees Online \n\n\n\nSeniors (62 and up): $45 at the Show Place Arena Box Office; Additional Fees OnlineTickets go on sale Friday\, January 2\, 2026\, at 12 noon. \n\n\n\nSaturday matinee and evening shows are SOLD OUT. \n\n\n\nFriday September 18\, 2026\, 7:30-10:30 pm \n\n\n\nSaturday\, September 19\, 2026\, 1-3 pm – SOLD OUT \n\n\n\nSaturday\, September 19\, 2026\, 7:30-10:30 pm – SOLD OUT \n\n\n\nEvent end times are approximate. \n\n\n\n              \n               \n               \n                    \n                        \n							                            														\n							                                Buy Tickets for Fri.\, Sep. 18\, 7:30 pm\n                            \n                            							                            														\n							                                Buy Tickets for Sat.\, Sep. 19\, 1 pm\n                            \n                            							                            														\n							                                Buy Tickets for Sat.\, Sep. 19\, 7:30 pm\n                            \n                            							                        \n                    \n            \n              \n      \n\n\n\n \n\n\n\nContact the event organizers at info@billpickettrodeo.com or by calling 303-373-1246. \n\n\n\nClick here to visit the Bill Pickett Rodeo website.
URL:https://arts.pgparks.com/event_list/bill-pickett-invitational-rodeo
CATEGORIES:All Ages,Special Event
ATTACH;FMTTYPE=image/png:https://arts.pgparks.com/wp-content/uploads/2025/12/Bill-PIcket-Rodeo-400x600-1.png
END:VEVENT
END:VCALENDAR