BEGIN:VCALENDAR
VERSION:2.0
PRODID:-//Park and Recreation - Prince Georges County MD - ECPv6.15.18//NONSGML v1.0//EN
CALSCALE:GREGORIAN
METHOD:PUBLISH
X-WR-CALNAME:Park and Recreation - Prince Georges County MD
X-ORIGINAL-URL:https://arts.pgparks.com
X-WR-CALDESC:Events for Park and Recreation - Prince Georges County MD
REFRESH-INTERVAL;VALUE=DURATION:PT1H
X-Robots-Tag:noindex
X-PUBLISHED-TTL:PT1H
BEGIN:VTIMEZONE
TZID:America/New_York
BEGIN:DAYLIGHT
TZOFFSETFROM:-0500
TZOFFSETTO:-0400
TZNAME:EDT
DTSTART:20250309T070000
END:DAYLIGHT
BEGIN:STANDARD
TZOFFSETFROM:-0400
TZOFFSETTO:-0500
TZNAME:EST
DTSTART:20251102T060000
END:STANDARD
BEGIN:DAYLIGHT
TZOFFSETFROM:-0500
TZOFFSETTO:-0400
TZNAME:EDT
DTSTART:20260308T070000
END:DAYLIGHT
BEGIN:STANDARD
TZOFFSETFROM:-0400
TZOFFSETTO:-0500
TZNAME:EST
DTSTART:20261101T060000
END:STANDARD
BEGIN:DAYLIGHT
TZOFFSETFROM:-0500
TZOFFSETTO:-0400
TZNAME:EDT
DTSTART:20270314T070000
END:DAYLIGHT
BEGIN:STANDARD
TZOFFSETFROM:-0400
TZOFFSETTO:-0500
TZNAME:EST
DTSTART:20271107T060000
END:STANDARD
END:VTIMEZONE
BEGIN:VEVENT
DTSTART;TZID=America/New_York:20260528T093000
DTEND;TZID=America/New_York:20260528T110000
DTSTAMP:20260421T114000
CREATED:20260225T154554Z
LAST-MODIFIED:20260326T132325Z
UID:10001584-1779960600-1779966000@arts.pgparks.com
SUMMARY:Fit & Strong
DESCRIPTION:Are you looking for a class to improve exercise frequency\, increase strength\, and help with goal setting to promote overall health? Join us for Fit & Strong!\, an evidence-based physical activity program that combines aerobics\, stretching\, balance\, strength\, endurance exercises\, and health education to promote healthy behavior changes. Registration is required.
URL:https://arts.pgparks.com/event_list/fit-strong-3-2/2026-05-28
CATEGORIES:Fitness,Free,Health & Wellness
ATTACH;FMTTYPE=image/jpeg:https://arts.pgparks.com/wp-content/uploads/2026/02/Fit-and-Strong-2026-600x400-1.jpg
END:VEVENT
BEGIN:VEVENT
DTSTART;TZID=America/New_York:20260528T110000
DTEND;TZID=America/New_York:20260528T123000
DTSTAMP:20260421T114000
CREATED:20260225T153638Z
LAST-MODIFIED:20260326T132321Z
UID:10001460-1779966000-1779971400@arts.pgparks.com
SUMMARY:Fit & Strong
DESCRIPTION:Are you looking for a class to improve exercise frequency\, increase strength\, and help with goal setting to promote overall health? Join us for “Fit & Strong\,” an evidence-based physical activity program that combines aerobics\, stretching\, balance\, strength\, endurance exercises\, and health education to promote healthy behavior changes. Registration is required.
URL:https://arts.pgparks.com/event_list/fit-strong-3/2026-05-28
CATEGORIES:18 and up,Fitness,Free,Health & Wellness
ATTACH;FMTTYPE=image/jpeg:https://arts.pgparks.com/wp-content/uploads/2026/02/Fit-and-Strong-2026-600x400-1.jpg
END:VEVENT
BEGIN:VEVENT
DTSTART;TZID=America/New_York:20260528T180000
DTEND;TZID=America/New_York:20260528T190000
DTSTAMP:20260421T114000
CREATED:20260211T155155Z
LAST-MODIFIED:20260220T162018Z
UID:10001226-1779991200-1779994800@arts.pgparks.com
SUMMARY:Muévase Bien\, Viva Bien: Actividad Física para un Maryland Más Saludable
DESCRIPTION:En honor al Mes Nacional de la Actividad Física y los Deportes\, Zócalo Health ofrece un taller para ayudarle a fortalecer su cuerpo y mantenerse activo—sin necesidad de un gimnasio. Este taller\, dirigido por una fisioterapeuta licenciada\, se enfoca en movimientos seguros y fáciles para todas las edades y niveles.
URL:https://arts.pgparks.com/event_list/muevase-bien-viva-bien-actividad-fisica-para-un-maryland-mas-saludable
CATEGORIES:All Ages,Fitness,Free,Health & Wellness
ATTACH;FMTTYPE=image/jpeg:https://arts.pgparks.com/wp-content/uploads/2026/02/Hispanic-Heritage-2026-600x400-1.jpg
END:VEVENT
BEGIN:VEVENT
DTSTART;TZID=America/New_York:20260528T180000
DTEND;TZID=America/New_York:20260528T190000
DTSTAMP:20260421T114000
CREATED:20260225T201630Z
LAST-MODIFIED:20260323T175426Z
UID:10001718-1779991200-1779994800@arts.pgparks.com
SUMMARY:Fitness in the Parks - Zumba
DESCRIPTION:Dance your way into fitness with this outdoor Zumba® class! The use of multicultural dance themes create a dynamic and exciting total body fitness routine. Experience Zumba’s benefits to your mood\, heart\, and dance skills!
URL:https://arts.pgparks.com/event_list/fitness-in-the-parks-zumba-2/2026-05-28
CATEGORIES:Fitness,Free,Health & Wellness
ATTACH;FMTTYPE=image/jpeg:https://arts.pgparks.com/wp-content/uploads/2026/02/Fitness-in-the-Parks-Zumba-2026-600x400-1.jpg
END:VEVENT
BEGIN:VEVENT
DTSTART;TZID=America/New_York:20260528T180000
DTEND;TZID=America/New_York:20260528T190000
DTSTAMP:20260421T114000
CREATED:20260225T210209Z
LAST-MODIFIED:20260225T221106Z
UID:10002211-1779991200-1779994800@arts.pgparks.com
SUMMARY:Get Fit Mobile: Fitness on the Fly
DESCRIPTION:Join our outdoor mobile fitness experience in the scenic parks of Prince George’s County! The Get Fit Mobile unit will supply a range of fitness equipment to create a vibrant workout experience. This class will feature a fusion of body weight\, strength\, and cardio exercises. All fitness levels welcome! Please bring a mat or towel to class. Ages 13 & up; FREE  
URL:https://arts.pgparks.com/event_list/get-fit-mobile-fitness-on-the-fly/2026-05-28
CATEGORIES:Fitness,Free,Health & Wellness
ATTACH;FMTTYPE=image/jpeg:https://arts.pgparks.com/wp-content/uploads/2026/02/Get-Fit-Mobile-2026-600x400-1.jpg
END:VEVENT
BEGIN:VEVENT
DTSTART;TZID=America/New_York:20260528T180000
DTEND;TZID=America/New_York:20260528T190000
DTSTAMP:20260421T114000
CREATED:20260225T210415Z
LAST-MODIFIED:20260227T214633Z
UID:10002263-1779991200-1779994800@arts.pgparks.com
SUMMARY:Get Fit Mobile: Fitness on the Fly
DESCRIPTION:Join our outdoor mobile fitness experience in the scenic parks of Prince George’s County! The Get Fit Mobile unit will supply a range of fitness equipment to create a vibrant workout experience. This class will feature a fusion of body weight\, strength\, and cardio exercises. All fitness levels welcome! Please bring a mat or towel to class. Ages 13 & up; FREE  
URL:https://arts.pgparks.com/event_list/get-fit-mobile-fitness-on-the-fly-2/2026-05-28
CATEGORIES:Fitness,Free,Health & Wellness
ATTACH;FMTTYPE=image/jpeg:https://arts.pgparks.com/wp-content/uploads/2026/02/Get-Fit-Mobile-2026-600x400-1.jpg
END:VEVENT
BEGIN:VEVENT
DTSTART;TZID=America/New_York:20260528T183000
DTEND;TZID=America/New_York:20260528T193000
DTSTAMP:20260421T114000
CREATED:20260211T194352Z
LAST-MODIFIED:20260220T161646Z
UID:10001232-1779993000-1779996600@arts.pgparks.com
SUMMARY:Femme Fly Fitness
DESCRIPTION:Join us for a one-day trampoline workout designed specifically for women seeking a fun\, low-impact fitness routine that improves cardiovascular health\, tones muscles\, boosts strength\, and improves balance.
URL:https://arts.pgparks.com/event_list/femme-fly-fitness
CATEGORIES:Fitness,Free,May is Fitness Month
ATTACH;FMTTYPE=image/jpeg:https://arts.pgparks.com/wp-content/uploads/2026/02/Femme-Fly-Fitness-2026-600x400-1.jpg
END:VEVENT
BEGIN:VEVENT
DTSTART;TZID=America/New_York:20260530T080000
DTEND;TZID=America/New_York:20260530T170000
DTSTAMP:20260421T114000
CREATED:20260225T203647Z
LAST-MODIFIED:20260227T215647Z
UID:10001956-1780128000-1780160400@arts.pgparks.com
SUMMARY:Fitness in the Parks - Full Body Sculpt: Strength & Conditioning  
DESCRIPTION:Join us for an energetic fitness class that is designed to engage and strengthen every major muscle group. This workout program integrates body weight exercises\, cardiovascular endurance and functional movements which help with the development of lean muscle\, improved mobility\, with the accountability and support of group training.
URL:https://arts.pgparks.com/event_list/fitness-in-the-parks-full-body-sculpt-strength-conditioning/2026-05-30
CATEGORIES:Fitness,Free,Health & Wellness
END:VEVENT
BEGIN:VEVENT
DTSTART;TZID=America/New_York:20260530T103000
DTEND;TZID=America/New_York:20260530T113000
DTSTAMP:20260421T114000
CREATED:20260225T204219Z
LAST-MODIFIED:20260319T142325Z
UID:10002017-1780137000-1780140600@arts.pgparks.com
SUMMARY:Fitness in the Parks - Family Zumba
DESCRIPTION:Dance your way into fitness with a family Zumba® class! This class brings together all members of your family for fun and easy-to-follow dance moves to upbeat music.
URL:https://arts.pgparks.com/event_list/fitness-in-the-parks-family-zumba/2026-05-30
CATEGORIES:Fitness,Free,Health & Wellness
ATTACH;FMTTYPE=image/jpeg:https://arts.pgparks.com/wp-content/uploads/2025/02/Fitness-in-the-Parks-Family-Zumba-400x400-1.jpg
END:VEVENT
BEGIN:VEVENT
DTSTART;TZID=America/New_York:20260531T140000
DTEND;TZID=America/New_York:20260531T153000
DTSTAMP:20260421T114000
CREATED:20260327T172650Z
LAST-MODIFIED:20260417T180210Z
UID:10003292-1780236000-1780241400@arts.pgparks.com
SUMMARY:Adult Hike 18+
DESCRIPTION:Enjoy a naturalist-led\, woodland nature hike. Take a walk with a naturalist on one of the many trails in Cosca Regional Park.
URL:https://arts.pgparks.com/event_list/adult-hike-18/2026-05-31
CATEGORIES:18 and up,Fitness,Nature & Outdoor,Walks/Runs
ATTACH;FMTTYPE=image/jpeg:https://arts.pgparks.com/wp-content/uploads/2026/03/Club300Picnic25-045.jpg
END:VEVENT
BEGIN:VEVENT
DTSTART;TZID=America/New_York:20260601T083000
DTEND;TZID=America/New_York:20260601T093000
DTSTAMP:20260421T114000
CREATED:20260331T053000Z
LAST-MODIFIED:20260330T113202Z
UID:10003211-1780302600-1780306200@arts.pgparks.com
SUMMARY:Fitness in the Parks - Urban Line Dancing   
DESCRIPTION:Let your creativity loose on the dance floor! Learn all the latest dances suitable for beginners and seasoned line dancers. Enjoy this great way to exercise\, socialize\, and energize yourself.
URL:https://arts.pgparks.com/event_list/fitness-in-the-parks-urban-line-dancing/2026-06-01
CATEGORIES:Fitness,Free,Health & Wellness
ATTACH;FMTTYPE=image/jpeg:https://arts.pgparks.com/wp-content/uploads/2026/02/Fitness-in-the-Parks-Spring-Kickoff-2026-600x400-1.jpg
END:VEVENT
BEGIN:VEVENT
DTSTART;TZID=America/New_York:20260601T093000
DTEND;TZID=America/New_York:20260601T103000
DTSTAMP:20260421T114000
CREATED:20260225T153127Z
LAST-MODIFIED:20260317T140237Z
UID:10001329-1780306200-1780309800@arts.pgparks.com
SUMMARY:Living Strong
DESCRIPTION:Whether you’re a graduate of Fit & Strong! or new to group fitness and would like a challenge\, Living Strong is a great way to stay active and build strength in a supportive environment. This class includes strength training\, aerobic exercise\, balance\, flexibility and more\, along with goal setting to help you stay motivated and consistent. Come improve your endurance\, boost your energy\, and keep Living Strong!
URL:https://arts.pgparks.com/event_list/living-strong-2-2/2026-06-01
CATEGORIES:18 and up,Fitness,Health & Wellness
ATTACH;FMTTYPE=image/jpeg:https://arts.pgparks.com/wp-content/uploads/2026/02/Living-Strong-2026-600x400-1.jpg
END:VEVENT
BEGIN:VEVENT
DTSTART;TZID=America/New_York:20260601T183000
DTEND;TZID=America/New_York:20260601T193000
DTSTAMP:20260421T114000
CREATED:20260225T184825Z
LAST-MODIFIED:20260227T220807Z
UID:10001899-1780338600-1780342200@arts.pgparks.com
SUMMARY:Fitness in the Parks - Zumba
DESCRIPTION:Dance your way into fitness with this Zumba® class!  The use of multicultural dance themes create a dynamic and exciting total body fitness routine. Experience Zumba’s benefits to your mood\, heart\, and dance skills!
URL:https://arts.pgparks.com/event_list/fitness-in-the-parks-zumba/2026-06-01
CATEGORIES:Fitness,Free,Health & Wellness
ATTACH;FMTTYPE=image/jpeg:https://arts.pgparks.com/wp-content/uploads/2026/02/Fitness-in-the-Parks-Zumba-2026-600x400-1.jpg
END:VEVENT
BEGIN:VEVENT
DTSTART;TZID=America/New_York:20260602T093000
DTEND;TZID=America/New_York:20260602T110000
DTSTAMP:20260421T114000
CREATED:20260225T154554Z
LAST-MODIFIED:20260326T132325Z
UID:10001585-1780392600-1780398000@arts.pgparks.com
SUMMARY:Fit & Strong
DESCRIPTION:Are you looking for a class to improve exercise frequency\, increase strength\, and help with goal setting to promote overall health? Join us for Fit & Strong!\, an evidence-based physical activity program that combines aerobics\, stretching\, balance\, strength\, endurance exercises\, and health education to promote healthy behavior changes. Registration is required.
URL:https://arts.pgparks.com/event_list/fit-strong-3-2/2026-06-02
CATEGORIES:Fitness,Free,Health & Wellness
ATTACH;FMTTYPE=image/jpeg:https://arts.pgparks.com/wp-content/uploads/2026/02/Fit-and-Strong-2026-600x400-1.jpg
END:VEVENT
BEGIN:VEVENT
DTSTART;TZID=America/New_York:20260602T110000
DTEND;TZID=America/New_York:20260602T123000
DTSTAMP:20260421T114000
CREATED:20260225T153638Z
LAST-MODIFIED:20260326T132321Z
UID:10001461-1780398000-1780403400@arts.pgparks.com
SUMMARY:Fit & Strong
DESCRIPTION:Are you looking for a class to improve exercise frequency\, increase strength\, and help with goal setting to promote overall health? Join us for “Fit & Strong\,” an evidence-based physical activity program that combines aerobics\, stretching\, balance\, strength\, endurance exercises\, and health education to promote healthy behavior changes. Registration is required.
URL:https://arts.pgparks.com/event_list/fit-strong-3/2026-06-02
CATEGORIES:18 and up,Fitness,Free,Health & Wellness
ATTACH;FMTTYPE=image/jpeg:https://arts.pgparks.com/wp-content/uploads/2026/02/Fit-and-Strong-2026-600x400-1.jpg
END:VEVENT
BEGIN:VEVENT
DTSTART;TZID=America/New_York:20260603T080000
DTEND;TZID=America/New_York:20260603T090000
DTSTAMP:20260421T114000
CREATED:20260225T185207Z
LAST-MODIFIED:20260227T220141Z
UID:10001839-1780473600-1780477200@arts.pgparks.com
SUMMARY:Fitness in the Parks - AM Sweatshop
DESCRIPTION:Join us for this fun\, effective cardio workout that combines several different workout methods including aerobics and bodyweight strength training. Enjoy a high-energy group environment as you improve your strength and cardiovascular endurance.
URL:https://arts.pgparks.com/event_list/fitness-in-the-parks-am-sweatshop/2026-06-03
CATEGORIES:Fitness,Free,Health & Wellness
ATTACH;FMTTYPE=image/jpeg:https://arts.pgparks.com/wp-content/uploads/2025/02/Fitness-in-the-Parks-AM-Sweatshop-400x400-1.jpg
END:VEVENT
BEGIN:VEVENT
DTSTART;TZID=America/New_York:20260603T093000
DTEND;TZID=America/New_York:20260603T103000
DTSTAMP:20260421T114000
CREATED:20260225T153127Z
LAST-MODIFIED:20260317T140237Z
UID:10001330-1780479000-1780482600@arts.pgparks.com
SUMMARY:Living Strong
DESCRIPTION:Whether you’re a graduate of Fit & Strong! or new to group fitness and would like a challenge\, Living Strong is a great way to stay active and build strength in a supportive environment. This class includes strength training\, aerobic exercise\, balance\, flexibility and more\, along with goal setting to help you stay motivated and consistent. Come improve your endurance\, boost your energy\, and keep Living Strong!
URL:https://arts.pgparks.com/event_list/living-strong-2-2/2026-06-03
CATEGORIES:18 and up,Fitness,Health & Wellness
ATTACH;FMTTYPE=image/jpeg:https://arts.pgparks.com/wp-content/uploads/2026/02/Living-Strong-2026-600x400-1.jpg
END:VEVENT
BEGIN:VEVENT
DTSTART;TZID=America/New_York:20260603T180000
DTEND;TZID=America/New_York:20260603T190000
DTSTAMP:20260421T114000
CREATED:20260225T194526Z
LAST-MODIFIED:20260227T220036Z
UID:10001779-1780509600-1780513200@arts.pgparks.com
SUMMARY:Fitness in the Parks - Circuit Workout
DESCRIPTION:Shake up your routine with this dynamic Circuit Workout! Move through a series of timed exercises that target strength\, cardio\, and endurance—perfect for a full-body challenge. Work at your own pace with options for all fitness levels.
URL:https://arts.pgparks.com/event_list/fitness-in-the-parks-circuit-workout/2026-06-03
CATEGORIES:Fitness,Free,Health & Wellness
ATTACH;FMTTYPE=image/jpeg:https://arts.pgparks.com/wp-content/uploads/2024/03/Sat.-Total-Body-HIIT-Fitness.jpg
END:VEVENT
BEGIN:VEVENT
DTSTART;TZID=America/New_York:20260604T093000
DTEND;TZID=America/New_York:20260604T110000
DTSTAMP:20260421T114000
CREATED:20260225T154554Z
LAST-MODIFIED:20260326T132325Z
UID:10001586-1780565400-1780570800@arts.pgparks.com
SUMMARY:Fit & Strong
DESCRIPTION:Are you looking for a class to improve exercise frequency\, increase strength\, and help with goal setting to promote overall health? Join us for Fit & Strong!\, an evidence-based physical activity program that combines aerobics\, stretching\, balance\, strength\, endurance exercises\, and health education to promote healthy behavior changes. Registration is required.
URL:https://arts.pgparks.com/event_list/fit-strong-3-2/2026-06-04
CATEGORIES:Fitness,Free,Health & Wellness
ATTACH;FMTTYPE=image/jpeg:https://arts.pgparks.com/wp-content/uploads/2026/02/Fit-and-Strong-2026-600x400-1.jpg
END:VEVENT
BEGIN:VEVENT
DTSTART;TZID=America/New_York:20260604T110000
DTEND;TZID=America/New_York:20260604T123000
DTSTAMP:20260421T114000
CREATED:20260225T153638Z
LAST-MODIFIED:20260326T132321Z
UID:10001462-1780570800-1780576200@arts.pgparks.com
SUMMARY:Fit & Strong
DESCRIPTION:Are you looking for a class to improve exercise frequency\, increase strength\, and help with goal setting to promote overall health? Join us for “Fit & Strong\,” an evidence-based physical activity program that combines aerobics\, stretching\, balance\, strength\, endurance exercises\, and health education to promote healthy behavior changes. Registration is required.
URL:https://arts.pgparks.com/event_list/fit-strong-3/2026-06-04
CATEGORIES:18 and up,Fitness,Free,Health & Wellness
ATTACH;FMTTYPE=image/jpeg:https://arts.pgparks.com/wp-content/uploads/2026/02/Fit-and-Strong-2026-600x400-1.jpg
END:VEVENT
BEGIN:VEVENT
DTSTART;TZID=America/New_York:20260604T180000
DTEND;TZID=America/New_York:20260604T190000
DTSTAMP:20260421T114000
CREATED:20260225T201630Z
LAST-MODIFIED:20260323T175426Z
UID:10001719-1780596000-1780599600@arts.pgparks.com
SUMMARY:Fitness in the Parks - Zumba
DESCRIPTION:Dance your way into fitness with this outdoor Zumba® class! The use of multicultural dance themes create a dynamic and exciting total body fitness routine. Experience Zumba’s benefits to your mood\, heart\, and dance skills!
URL:https://arts.pgparks.com/event_list/fitness-in-the-parks-zumba-2/2026-06-04
CATEGORIES:Fitness,Free,Health & Wellness
ATTACH;FMTTYPE=image/jpeg:https://arts.pgparks.com/wp-content/uploads/2026/02/Fitness-in-the-Parks-Zumba-2026-600x400-1.jpg
END:VEVENT
BEGIN:VEVENT
DTSTART;TZID=America/New_York:20260604T180000
DTEND;TZID=America/New_York:20260604T190000
DTSTAMP:20260421T114000
CREATED:20260225T210209Z
LAST-MODIFIED:20260225T221106Z
UID:10002212-1780596000-1780599600@arts.pgparks.com
SUMMARY:Get Fit Mobile: Fitness on the Fly
DESCRIPTION:Join our outdoor mobile fitness experience in the scenic parks of Prince George’s County! The Get Fit Mobile unit will supply a range of fitness equipment to create a vibrant workout experience. This class will feature a fusion of body weight\, strength\, and cardio exercises. All fitness levels welcome! Please bring a mat or towel to class. Ages 13 & up; FREE  
URL:https://arts.pgparks.com/event_list/get-fit-mobile-fitness-on-the-fly/2026-06-04
CATEGORIES:Fitness,Free,Health & Wellness
ATTACH;FMTTYPE=image/jpeg:https://arts.pgparks.com/wp-content/uploads/2026/02/Get-Fit-Mobile-2026-600x400-1.jpg
END:VEVENT
BEGIN:VEVENT
DTSTART;TZID=America/New_York:20260604T180000
DTEND;TZID=America/New_York:20260604T190000
DTSTAMP:20260421T114000
CREATED:20260225T210415Z
LAST-MODIFIED:20260227T214633Z
UID:10002264-1780596000-1780599600@arts.pgparks.com
SUMMARY:Get Fit Mobile: Fitness on the Fly
DESCRIPTION:Join our outdoor mobile fitness experience in the scenic parks of Prince George’s County! The Get Fit Mobile unit will supply a range of fitness equipment to create a vibrant workout experience. This class will feature a fusion of body weight\, strength\, and cardio exercises. All fitness levels welcome! Please bring a mat or towel to class. Ages 13 & up; FREE  
URL:https://arts.pgparks.com/event_list/get-fit-mobile-fitness-on-the-fly-2/2026-06-04
CATEGORIES:Fitness,Free,Health & Wellness
ATTACH;FMTTYPE=image/jpeg:https://arts.pgparks.com/wp-content/uploads/2026/02/Get-Fit-Mobile-2026-600x400-1.jpg
END:VEVENT
BEGIN:VEVENT
DTSTART;TZID=America/New_York:20260606T080000
DTEND;TZID=America/New_York:20260606T170000
DTSTAMP:20260421T114000
CREATED:20260225T203647Z
LAST-MODIFIED:20260227T215647Z
UID:10001957-1780732800-1780765200@arts.pgparks.com
SUMMARY:Fitness in the Parks - Full Body Sculpt: Strength & Conditioning  
DESCRIPTION:Join us for an energetic fitness class that is designed to engage and strengthen every major muscle group. This workout program integrates body weight exercises\, cardiovascular endurance and functional movements which help with the development of lean muscle\, improved mobility\, with the accountability and support of group training.
URL:https://arts.pgparks.com/event_list/fitness-in-the-parks-full-body-sculpt-strength-conditioning/2026-06-06
CATEGORIES:Fitness,Free,Health & Wellness
END:VEVENT
BEGIN:VEVENT
DTSTART;TZID=America/New_York:20260608T083000
DTEND;TZID=America/New_York:20260608T093000
DTSTAMP:20260421T114000
CREATED:20260331T053000Z
LAST-MODIFIED:20260330T113202Z
UID:10003212-1780907400-1780911000@arts.pgparks.com
SUMMARY:Fitness in the Parks - Urban Line Dancing   
DESCRIPTION:Let your creativity loose on the dance floor! Learn all the latest dances suitable for beginners and seasoned line dancers. Enjoy this great way to exercise\, socialize\, and energize yourself.
URL:https://arts.pgparks.com/event_list/fitness-in-the-parks-urban-line-dancing/2026-06-08
CATEGORIES:Fitness,Free,Health & Wellness
ATTACH;FMTTYPE=image/jpeg:https://arts.pgparks.com/wp-content/uploads/2026/02/Fitness-in-the-Parks-Spring-Kickoff-2026-600x400-1.jpg
END:VEVENT
BEGIN:VEVENT
DTSTART;TZID=America/New_York:20260608T093000
DTEND;TZID=America/New_York:20260608T103000
DTSTAMP:20260421T114000
CREATED:20260225T153127Z
LAST-MODIFIED:20260317T140237Z
UID:10001331-1780911000-1780914600@arts.pgparks.com
SUMMARY:Living Strong
DESCRIPTION:Whether you’re a graduate of Fit & Strong! or new to group fitness and would like a challenge\, Living Strong is a great way to stay active and build strength in a supportive environment. This class includes strength training\, aerobic exercise\, balance\, flexibility and more\, along with goal setting to help you stay motivated and consistent. Come improve your endurance\, boost your energy\, and keep Living Strong!
URL:https://arts.pgparks.com/event_list/living-strong-2-2/2026-06-08
CATEGORIES:18 and up,Fitness,Health & Wellness
ATTACH;FMTTYPE=image/jpeg:https://arts.pgparks.com/wp-content/uploads/2026/02/Living-Strong-2026-600x400-1.jpg
END:VEVENT
BEGIN:VEVENT
DTSTART;TZID=America/New_York:20260608T183000
DTEND;TZID=America/New_York:20260608T193000
DTSTAMP:20260421T114000
CREATED:20260225T184825Z
LAST-MODIFIED:20260227T220807Z
UID:10001900-1780943400-1780947000@arts.pgparks.com
SUMMARY:Fitness in the Parks - Zumba
DESCRIPTION:Dance your way into fitness with this Zumba® class!  The use of multicultural dance themes create a dynamic and exciting total body fitness routine. Experience Zumba’s benefits to your mood\, heart\, and dance skills!
URL:https://arts.pgparks.com/event_list/fitness-in-the-parks-zumba/2026-06-08
CATEGORIES:Fitness,Free,Health & Wellness
ATTACH;FMTTYPE=image/jpeg:https://arts.pgparks.com/wp-content/uploads/2026/02/Fitness-in-the-Parks-Zumba-2026-600x400-1.jpg
END:VEVENT
BEGIN:VEVENT
DTSTART;TZID=America/New_York:20260609T093000
DTEND;TZID=America/New_York:20260609T110000
DTSTAMP:20260421T114000
CREATED:20260225T154554Z
LAST-MODIFIED:20260326T132325Z
UID:10001587-1780997400-1781002800@arts.pgparks.com
SUMMARY:Fit & Strong
DESCRIPTION:Are you looking for a class to improve exercise frequency\, increase strength\, and help with goal setting to promote overall health? Join us for Fit & Strong!\, an evidence-based physical activity program that combines aerobics\, stretching\, balance\, strength\, endurance exercises\, and health education to promote healthy behavior changes. Registration is required.
URL:https://arts.pgparks.com/event_list/fit-strong-3-2/2026-06-09
CATEGORIES:Fitness,Free,Health & Wellness
ATTACH;FMTTYPE=image/jpeg:https://arts.pgparks.com/wp-content/uploads/2026/02/Fit-and-Strong-2026-600x400-1.jpg
END:VEVENT
BEGIN:VEVENT
DTSTART;TZID=America/New_York:20260610T080000
DTEND;TZID=America/New_York:20260610T090000
DTSTAMP:20260421T114000
CREATED:20260225T185207Z
LAST-MODIFIED:20260227T220141Z
UID:10001840-1781078400-1781082000@arts.pgparks.com
SUMMARY:Fitness in the Parks - AM Sweatshop
DESCRIPTION:Join us for this fun\, effective cardio workout that combines several different workout methods including aerobics and bodyweight strength training. Enjoy a high-energy group environment as you improve your strength and cardiovascular endurance.
URL:https://arts.pgparks.com/event_list/fitness-in-the-parks-am-sweatshop/2026-06-10
CATEGORIES:Fitness,Free,Health & Wellness
ATTACH;FMTTYPE=image/jpeg:https://arts.pgparks.com/wp-content/uploads/2025/02/Fitness-in-the-Parks-AM-Sweatshop-400x400-1.jpg
END:VEVENT
BEGIN:VEVENT
DTSTART;TZID=America/New_York:20260610T093000
DTEND;TZID=America/New_York:20260610T103000
DTSTAMP:20260421T114000
CREATED:20260225T153127Z
LAST-MODIFIED:20260317T140237Z
UID:10001332-1781083800-1781087400@arts.pgparks.com
SUMMARY:Living Strong
DESCRIPTION:Whether you’re a graduate of Fit & Strong! or new to group fitness and would like a challenge\, Living Strong is a great way to stay active and build strength in a supportive environment. This class includes strength training\, aerobic exercise\, balance\, flexibility and more\, along with goal setting to help you stay motivated and consistent. Come improve your endurance\, boost your energy\, and keep Living Strong!
URL:https://arts.pgparks.com/event_list/living-strong-2-2/2026-06-10
CATEGORIES:18 and up,Fitness,Health & Wellness
ATTACH;FMTTYPE=image/jpeg:https://arts.pgparks.com/wp-content/uploads/2026/02/Living-Strong-2026-600x400-1.jpg
END:VEVENT
END:VCALENDAR